Workbook

Sheet Summary
A1: Fernlight Day Spa · Monthly revenue & utilisation · September 2026
A2: Every figure below is a live formula over the Bookings, Roster, Therapists, Rooms and Package sales sheets. Revenue counts completed treatments; booked hours count every booking that was not cancelled.
A4: September 2026 at a glance
A5: Treatment revenue (completed) | B5: =SUMIFS(Bookings!$M$2:$M$672,Bookings!$N$2:$N$672,"Completed") -> 86245
A6: Package & membership sales | B6: =SUM('Package sales'!$E$2:$E$57) -> 12140
A7: Total revenue | B7: =B5+B6 -> 98385
A8: Completed treatments | B8: =COUNTIF(Bookings!$N$2:$N$672,"Completed") -> 627
A9: Average treatment price | B9: =IF(B8=0,0,B5/B8) -> 137.55183
A10: Cancellations | B10: =COUNTIF(Bookings!$N$2:$N$672,"Cancelled") -> 44
A11: Cancellation rate | B11: =IF(COUNTA(Bookings!$A$2:$A$672)=0,0,B10/COUNTA(Bookings!$A$2:$A$672)) -> 0.06557377
A12: Therapist utilisation (booked ÷ available hours) | B12: =F32 -> 0.5489278
A13: Room utilisation (booked ÷ available hours) | B13: =E43 -> 0.46043944
A14: Therapist hours available | B14: =E32 -> 1228
A16: Revenue by treatment category
A17: Category | B17: Treatments | C17: Revenue | D17: Share | E17: Average price
A18: Massage | B18: =COUNTIFS(Bookings!$H$2:$H$672,A18,Bookings!$N$2:$N$672,"Completed") -> 334 | C18: =SUMIFS(Bookings!$M$2:$M$672,Bookings!$H$2:$H$672,A18,Bookings!$N$2:$N$672,"Completed") -> 48725 | D18: =IF($C$21=0,0,C18/$C$21) -> 0.56496029 | E18: =IF(B18=0,0,C18/B18) -> 145.88323
A19: Facials | B19: =COUNTIFS(Bookings!$H$2:$H$672,A19,Bookings!$N$2:$N$672,"Completed") -> 196 | C19: =SUMIFS(Bookings!$M$2:$M$672,Bookings!$H$2:$H$672,A19,Bookings!$N$2:$N$672,"Completed") -> 25240 | D19: =IF($C$21=0,0,C19/$C$21) -> 0.29265465 | E19: =IF(B19=0,0,C19/B19) -> 128.77551
A20: Body treatments | B20: =COUNTIFS(Bookings!$H$2:$H$672,A20,Bookings!$N$2:$N$672,"Completed") -> 97 | C20: =SUMIFS(Bookings!$M$2:$M$672,Bookings!$H$2:$H$672,A20,Bookings!$N$2:$N$672,"Completed") -> 12280 | D20: =IF($C$21=0,0,C20/$C$21) -> 0.14238507 | E20: =IF(B20=0,0,C20/B20) -> 126.59794
A21: All treatments | B21: =SUM(B18:B20) -> 627 | C21: =SUM(C18:C20) -> 86245 | D21: =SUM(D18:D20) -> 1 | E21: =IF(B21=0,0,C21/B21) -> 137.55183
A24: Revenue and utilisation by therapist
A25: Therapist | B25: Treatments | C25: Revenue | D25: Booked hours | E25: Available hours | F25: Utilisation
A26: Maren Holloway | B26: =COUNTIFS(Bookings!$I$2:$I$672,A26,Bookings!$N$2:$N$672,"Completed") -> 109 | C26: =SUMIFS(Bookings!$M$2:$M$672,Bookings!$I$2:$I$672,A26,Bookings!$N$2:$N$672,"Completed") -> 15110 | D26: =SUMIFS(Bookings!$L$2:$L$672,Bookings!$I$2:$I$672,A26,Bookings!$N$2:$N$672,"<>Cancelled") -> 120 | E26: =Therapists!E2 -> 216 | F26: =IF(E26=0,0,D26/E26) -> 0.55555556
A27: Theo Castellanos | B27: =COUNTIFS(Bookings!$I$2:$I$672,A27,Bookings!$N$2:$N$672,"Completed") -> 87 | C27: =SUMIFS(Bookings!$M$2:$M$672,Bookings!$I$2:$I$672,A27,Bookings!$N$2:$N$672,"Completed") -> 12945 | D27: =SUMIFS(Bookings!$L$2:$L$672,Bookings!$I$2:$I$672,A27,Bookings!$N$2:$N$672,"<>Cancelled") -> 103.5 | E27: =Therapists!E3 -> 194 | F27: =IF(E27=0,0,D27/E27) -> 0.53350515
A28: Priya Natarajan | B28: =COUNTIFS(Bookings!$I$2:$I$672,A28,Bookings!$N$2:$N$672,"Completed") -> 115 | C28: =SUMIFS(Bookings!$M$2:$M$672,Bookings!$I$2:$I$672,A28,Bookings!$N$2:$N$672,"Completed") -> 14780 | D28: =SUMIFS(Bookings!$L$2:$L$672,Bookings!$I$2:$I$672,A28,Bookings!$N$2:$N$672,"<>Cancelled") -> 109.66667 | E28: =Therapists!E4 -> 216 | F28: =IF(E28=0,0,D28/E28) -> 0.50771605
A29: June Okonkwo | B29: =COUNTIFS(Bookings!$I$2:$I$672,A29,Bookings!$N$2:$N$672,"Completed") -> 113 | C29: =SUMIFS(Bookings!$M$2:$M$672,Bookings!$I$2:$I$672,A29,Bookings!$N$2:$N$672,"Completed") -> 14630 | D29: =SUMIFS(Bookings!$L$2:$L$672,Bookings!$I$2:$I$672,A29,Bookings!$N$2:$N$672,"<>Cancelled") -> 109.91667 | E29: =Therapists!E5 -> 194 | F29: =IF(E29=0,0,D29/E29) -> 0.56658076
A30: Sofia Lindqvist | B30: =COUNTIFS(Bookings!$I$2:$I$672,A30,Bookings!$N$2:$N$672,"Completed") -> 109 | C30: =SUMIFS(Bookings!$M$2:$M$672,Bookings!$I$2:$I$672,A30,Bookings!$N$2:$N$672,"Completed") -> 15355 | D30: =SUMIFS(Bookings!$L$2:$L$672,Bookings!$I$2:$I$672,A30,Bookings!$N$2:$N$672,"<>Cancelled") -> 123.5 | E30: =Therapists!E6 -> 204 | F30: =IF(E30=0,0,D30/E30) -> 0.60539216
A31: Ezra Whitlock | B31: =COUNTIFS(Bookings!$I$2:$I$672,A31,Bookings!$N$2:$N$672,"Completed") -> 94 | C31: =SUMIFS(Bookings!$M$2:$M$672,Bookings!$I$2:$I$672,A31,Bookings!$N$2:$N$672,"Completed") -> 13425 | D31: =SUMIFS(Bookings!$L$2:$L$672,Bookings!$I$2:$I$672,A31,Bookings!$N$2:$N$672,"<>Cancelled") -> 107.5 | E31: =Therapists!E7 -> 204 | F31: =IF(E31=0,0,D31/E31) -> 0.52696078
A32: Team | B32: =SUM(B26:B31) -> 627 | C32: =SUM(C26:C31) -> 86245 | D32: =SUM(D26:D31) -> 674.08333 | E32: =SUM(E26:E31) -> 1228 | F32: =IF(E32=0,0,D32/E32) -> 0.5489278
A35: Treatment room utilisation
A36: Room | B36: Bookings | C36: Booked hours | D36: Available hours | E36: Utilisation
A37: Bracken | B37: =COUNTIFS(Bookings!$J$2:$J$672,A37,Bookings!$N$2:$N$672,"<>Cancelled") -> 131 | C37: =SUMIFS(Bookings!$L$2:$L$672,Bookings!$J$2:$J$672,A37,Bookings!$N$2:$N$672,"<>Cancelled") -> 150.5 | D37: =Rooms!E2 -> 244 | E37: =IF(D37=0,0,C37/D37) -> 0.61680328
A38: Maidenhair | B38: =COUNTIFS(Bookings!$J$2:$J$672,A38,Bookings!$N$2:$N$672,"<>Cancelled") -> 119 | C38: =SUMIFS(Bookings!$L$2:$L$672,Bookings!$J$2:$J$672,A38,Bookings!$N$2:$N$672,"<>Cancelled") -> 139.25 | D38: =Rooms!E3 -> 244 | E38: =IF(D38=0,0,C38/D38) -> 0.57069672
A39: Cedar | B39: =COUNTIFS(Bookings!$J$2:$J$672,A39,Bookings!$N$2:$N$672,"<>Cancelled") -> 101 | C39: =SUMIFS(Bookings!$L$2:$L$672,Bookings!$J$2:$J$672,A39,Bookings!$N$2:$N$672,"<>Cancelled") -> 119.75 | D39: =Rooms!E4 -> 244 | E39: =IF(D39=0,0,C39/D39) -> 0.49077869
A40: Lantern | B40: =COUNTIFS(Bookings!$J$2:$J$672,A40,Bookings!$N$2:$N$672,"<>Cancelled") -> 125 | C40: =SUMIFS(Bookings!$L$2:$L$672,Bookings!$J$2:$J$672,A40,Bookings!$N$2:$N$672,"<>Cancelled") -> 120.58333 | D40: =Rooms!E5 -> 244 | E40: =IF(D40=0,0,C40/D40) -> 0.49419399
A41: Moss | B41: =COUNTIFS(Bookings!$J$2:$J$672,A41,Bookings!$N$2:$N$672,"<>Cancelled") -> 73 | C41: =SUMIFS(Bookings!$L$2:$L$672,Bookings!$J$2:$J$672,A41,Bookings!$N$2:$N$672,"<>Cancelled") -> 68.5 | D41: =Rooms!E6 -> 244 | E41: =IF(D41=0,0,C41/D41) -> 0.2807377
A42: Rain Room | B42: =COUNTIFS(Bookings!$J$2:$J$672,A42,Bookings!$N$2:$N$672,"<>Cancelled") -> 78 | C42: =SUMIFS(Bookings!$L$2:$L$672,Bookings!$J$2:$J$672,A42,Bookings!$N$2:$N$672,"<>Cancelled") -> 75.5 | D42: =Rooms!E7 -> 244 | E42: =IF(D42=0,0,C42/D42) -> 0.30942623
A43: All rooms | B43: =SUM(B37:B42) -> 627 | C43: =SUM(C37:C42) -> 674.08333 | D43: =SUM(D37:D42) -> 1464 | E43: =IF(D43=0,0,C43/D43) -> 0.46043944
A46: Revenue by treatment
A47: Treatment | B47: Minutes | C47: Treatments | D47: Revenue | E47: Share
A48: Fernlight Signature Massage | B48: 60 | C48: =COUNTIFS(Bookings!$G$2:$G$672,A48,Bookings!$K$2:$K$672,B48,Bookings!$N$2:$N$672,"Completed") -> 100 | D48: =SUMIFS(Bookings!$M$2:$M$672,Bookings!$G$2:$G$672,A48,Bookings!$K$2:$K$672,B48,Bookings!$N$2:$N$672,"Completed") -> 12500 | E48: =IF($D$64=0,0,D48/$D$64) -> 0.14493594
...

Sheet Bookings
A1: Code | B1: Date | C1: Day | D1: Start | E1: End | F1: Client | G1: Treatment | H1: Category | I1: Therapist | J1: Room | K1: Minutes | L1: Hours | M1: Price | N1: Status
A2: FL-7MYX7T | B2: 46266 | C2: Tue | D2: 10:00 | E2: 10:50 | F2: Lucia Galloway | G2: Calm Skin Facial | H2: Facials | I2: Priya Natarajan | J2: Moss | K2: 50 | L2: =K2/60 -> 0.83333333 | M2: 115 | N2: Completed
A3: FL-F7862N | B3: 46266 | C3: Tue | D3: 10:00 | E3: 11:15 | F3: Mei Lattimore | G3: Stretch & Release | H3: Massage | I3: Sofia Lindqvist | J3: Maidenhair | K3: 75 | L3: =K3/60 -> 1.25 | M3: 150 | N3: Completed
A4: FL-4A7WW7 | B4: 46266 | C4: Tue | D4: 10:00 | E4: 11:00 | F4: Ingrid Oakley | G4: Fernlight Glow Facial | H4: Facials | I4: June Okonkwo | J4: Lantern | K4: 60 | L4: =K4/60 -> 1 | M4: 130 | N4: Completed
A5: FL-P2VUXQ | B5: 46266 | C5: Tue | D5: 10:00 | E5: 11:30 | F5: Anjali Osei | G5: Fernlight Signature Massage | H5: Massage | I5: Ezra Whitlock | J5: Bracken | K5: 90 | L5: =K5/60 -> 1.5 | M5: 175 | N5: Completed
A6: FL-FNT6KP | B6: 46266 | C6: Tue | D6: 10:30 | E6: 11:15 | F6: Anjali Hale | G6: Mountain Salt Scrub | H6: Body treatments | I6: Maren Holloway | J6: Rain Room | K6: 45 | L6: =K6/60 -> 0.75 | M6: 95 | N6: Completed
A7: FL-23HSB4 | B7: 46266 | C7: Tue | D7: 11:30 | E7: 12:20 | F7: Kelsey Ingram | G7: Calm Skin Facial | H7: Facials | I7: Priya Natarajan | J7: Moss | K7: 50 | L7: =K7/60 -> 0.83333333 | M7: 115 | N7: Completed
A8: FL-6346Z8 | B8: 46266 | C8: Tue | D8: 11:30 | E8: 13:00 | F8: Ryan Ransom | G8: Rain Room Ritual | H8: Body treatments | I8: Sofia Lindqvist | J8: Cedar | K8: 90 | L8: =K8/60 -> 1.5 | M8: 195 | N8: Completed
A9: FL-7Y2ENU | B9: 46266 | C9: Tue | D9: 11:30 | E9: 12:15 | F9: Ryan Bishop | G9: Mountain Salt Scrub | H9: Body treatments | I9: June Okonkwo | J9: Rain Room | K9: 45 | L9: =K9/60 -> 0.75 | M9: 95 | N9: Completed
A10: FL-MZDGQJ | B10: 46266 | C10: Tue | D10: 12:00 | E10: 13:00 | F10: Yuna Ashby | G10: Fernlight Signature Massage | H10: Massage | I10: Ezra Whitlock | J10: Bracken | K10: 60 | L10: =K10/60 -> 1 | M10: 125 | N10: Completed
A11: FL-VGUJXR | B11: 46266 | C11: Tue | D11: 12:30 | E11: 13:30 | F11: Natalie Varga | G11: Fernlight Glow Facial | H11: Facials | I11: June Okonkwo | J11: Lantern | K11: 60 | L11: =K11/60 -> 1 | M11: 130 | N11: Completed
A12: FL-XQDXAQ | B12: 46266 | C12: Tue | D12: 13:00 | E12: 14:30 | F12: Caleb Calloway | G12: Rain Room Ritual | H12: Body treatments | I12: Maren Holloway | J12: Rain Room | K12: 90 | L12: =K12/60 -> 1.5 | M12: 195 | N12: Cancelled
A13: FL-HDQJ8H | B13: 46266 | C13: Tue | D13: 13:00 | E13: 14:00 | F13: Camille Chen | G13: Renewal Peel Facial | H13: Facials | I13: Priya Natarajan | J13: Moss | K13: 60 | L13: =K13/60 -> 1 | M13: 150 | N13: Completed
... A672: FL-9885QW | B672: 46295 | C672: Wed | D672: 19:00 | E672: 20:00 | F672: Natalie Oakley | G672: Deep Tissue Massage | H672: Massage | I672: Sofia Lindqvist | J672: Maidenhair | K672: 60 | L672: =K672/60 -> 1 | M672: 135 | N672: Completed

Sheet Roster
A1: Date | B1: Day | C1: Opens | D1: Closes | E1: Open hours | F1: Maren Holloway | G1: Theo Castellanos | H1: Priya Natarajan | I1: June Okonkwo | J1: Sofia Lindqvist | K1: Ezra Whitlock
A2: 46266 | B2: Tue | C2: 0.41666667 | D2: 0.83333333 | E2: =IF(C2="",0,(D2-C2)*24) -> 10 | F2: 1 | G2: 0 | H2: 1 | I2: 1 | J2: 1 | K2: 1
A3: 46267 | B3: Wed | C3: 0.41666667 | D3: 0.83333333 | E3: =IF(C3="",0,(D3-C3)*24) -> 10 | F3: 1 | G3: 1 | H3: 1 | I3: 0 | J3: 1 | K3: 1
A4: 46268 | B4: Thu | C4: 0.41666667 | D4: 0.83333333 | E4: =IF(C4="",0,(D4-C4)*24) -> 10 | F4: 1 | G4: 1 | H4: 1 | I4: 1 | J4: 0 | K4: 1
A5: 46269 | B5: Fri | C5: 0.41666667 | D5: 0.83333333 | E5: =IF(C5="",0,(D5-C5)*24) -> 10 | F5: 1 | G5: 1 | H5: 1 | I5: 1 | J5: 1 | K5: 0
A6: 46270 | B6: Sat | C6: 0.375 | D6: 0.75 | E6: =IF(C6="",0,(D6-C6)*24) -> 9 | F6: 1 | G6: 1 | H6: 1 | I6: 1 | J6: 1 | K6: 1
A7: 46271 | B7: Sun | C7: 0.41666667 | D7: 0.70833333 | E7: =IF(C7="",0,(D7-C7)*24) -> 7 | F7: 0 | G7: 1 | H7: 0 | I7: 1 | J7: 1 | K7: 1
A8: 46272 | B8: Mon | E8: =IF(C8="",0,(D8-C8)*24) -> 0 | F8: 0 | G8: 0 | H8: 0 | I8: 0 | J8: 0 | K8: 0
A9: 46273 | B9: Tue | C9: 0.41666667 | D9: 0.83333333 | E9: =IF(C9="",0,(D9-C9)*24) -> 10 | F9: 1 | G9: 0 | H9: 1 | I9: 1 | J9: 1 | K9: 1
A10: 46274 | B10: Wed | C10: 0.41666667 | D10: 0.83333333 | E10: =IF(C10="",0,(D10-C10)*24) -> 10 | F10: 1 | G10: 1 | H10: 1 | I10: 0 | J10: 1 | K10: 1
A11: 46275 | B11: Thu | C11: 0.41666667 | D11: 0.83333333 | E11: =IF(C11="",0,(D11-C11)*24) -> 10 | F11: 1 | G11: 1 | H11: 1 | I11: 1 | J11: 0 | K11: 1
A12: 46276 | B12: Fri | C12: 0.41666667 | D12: 0.83333333 | E12: =IF(C12="",0,(D12-C12)*24) -> 10 | F12: 1 | G12: 1 | H12: 1 | I12: 1 | J12: 1 | K12: 0
A13: 46277 | B13: Sat | C13: 0.375 | D13: 0.75 | E13: =IF(C13="",0,(D13-C13)*24) -> 9 | F13: 1 | G13: 1 | H13: 1 | I13: 1 | J13: 1 | K13: 1
A14: 46278 | B14: Sun | C14: 0.41666667 | D14: 0.70833333 | E14: =IF(C14="",0,(D14-C14)*24) -> 7 | F14: 0 | G14: 1 | H14: 0 | I14: 1 | J14: 1 | K14: 1
A15: 46279 | B15: Mon | E15: =IF(C15="",0,(D15-C15)*24) -> 0 | F15: 0 | G15: 0 | H15: 0 | I15: 0 | J15: 0 | K15: 0
A16: 46280 | B16: Tue | C16: 0.41666667 | D16: 0.83333333 | E16: =IF(C16="",0,(D16-C16)*24) -> 10 | F16: 1 | G16: 0 | H16: 1 | I16: 1 | J16: 1 | K16: 1
A17: 46281 | B17: Wed | C17: 0.41666667 | D17: 0.83333333 | E17: =IF(C17="",0,(D17-C17)*24) -> 10 | F17: 1 | G17: 1 | H17: 1 | I17: 0 | J17: 1 | K17: 1
A18: 46282 | B18: Thu | C18: 0.41666667 | D18: 0.83333333 | E18: =IF(C18="",0,(D18-C18)*24) -> 10 | F18: 1 | G18: 1 | H18: 1 | I18: 1 | J18: 0 | K18: 1
A19: 46283 | B19: Fri | C19: 0.41666667 | D19: 0.83333333 | E19: =IF(C19="",0,(D19-C19)*24) -> 10 | F19: 1 | G19: 1 | H19: 1 | I19: 1 | J19: 1 | K19: 0
A20: 46284 | B20: Sat | C20: 0.375 | D20: 0.75 | E20: =IF(C20="",0,(D20-C20)*24) -> 9 | F20: 1 | G20: 1 | H20: 1 | I20: 1 | J20: 1 | K20: 1
A21: 46285 | B21: Sun | C21: 0.41666667 | D21: 0.70833333 | E21: =IF(C21="",0,(D21-C21)*24) -> 7 | F21: 0 | G21: 1 | H21: 0 | I21: 1 | J21: 1 | K21: 1
A22: 46286 | B22: Mon | E22: =IF(C22="",0,(D22-C22)*24) -> 0 | F22: 0 | G22: 0 | H22: 0 | I22: 0 | J22: 0 | K22: 0
A23: 46287 | B23: Tue | C23: 0.41666667 | D23: 0.83333333 | E23: =IF(C23="",0,(D23-C23)*24) -> 10 | F23: 1 | G23: 0 | H23: 1 | I23: 1 | J23: 1 | K23: 1
A24: 46288 | B24: Wed | C24: 0.41666667 | D24: 0.83333333 | E24: =IF(C24="",0,(D24-C24)*24) -> 10 | F24: 1 | G24: 1 | H24: 1 | I24: 0 | J24: 1 | K24: 1
A25: 46289 | B25: Thu | C25: 0.41666667 | D25: 0.83333333 | E25: =IF(C25="",0,(D25-C25)*24) -> 10 | F25: 1 | G25: 1 | H25: 1 | I25: 1 | J25: 0 | K25: 1
A26: 46290 | B26: Fri | C26: 0.41666667 | D26: 0.83333333 | E26: =IF(C26="",0,(D26-C26)*24) -> 10 | F26: 1 | G26: 1 | H26: 1 | I26: 1 | J26: 1 | K26: 0
A27: 46291 | B27: Sat | C27: 0.375 | D27: 0.75 | E27: =IF(C27="",0,(D27-C27)*24) -> 9 | F27: 1 | G27: 1 | H27: 1 | I27: 1 | J27: 1 | K27: 1
A28: 46292 | B28: Sun | C28: 0.41666667 | D28: 0.70833333 | E28: =IF(C28="",0,(D28-C28)*24) -> 7 | F28: 0 | G28: 1 | H28: 0 | I28: 1 | J28: 1 | K28: 1
A29: 46293 | B29: Mon | E29: =IF(C29="",0,(D29-C29)*24) -> 0 | F29: 0 | G29: 0 | H29: 0 | I29: 0 | J29: 0 | K29: 0
A30: 46294 | B30: Tue | C30: 0.41666667 | D30: 0.83333333 | E30: =IF(C30="",0,(D30-C30)*24) -> 10 | F30: 1 | G30: 0 | H30: 1 | I30: 1 | J30: 1 | K30: 1
A31: 46295 | B31: Wed | C31: 0.41666667 | D31: 0.83333333 | E31: =IF(C31="",0,(D31-C31)*24) -> 10 | F31: 1 | G31: 1 | H31: 1 | I31: 0 | J31: 1 | K31: 1
A32: Total | E32: =SUM(E2:E31) -> 244 | F32: =SUM(F2:F31) -> 22 | G32: =SUM(G2:G31) -> 21 | H32: =SUM(H2:H31) -> 22 | I32: =SUM(I2:I31) -> 21 | J32: =SUM(J2:J31) -> 22 | K32: =SUM(K2:K31) -> 22

Sheet Therapists
A1: Therapist | B1: Role | C1: Treatments offered | D1: Days on roster | E1: Hours available
A2: Maren Holloway | B2: Lead massage therapist, LMT | C2: Massage, Body treatments | D2: =SUM(Roster!F2:F31) -> 22 | E2: =SUMPRODUCT(Roster!$E$2:$E$31,Roster!F2:F31) -> 216
A3: Theo Castellanos | B3: Massage therapist, LMT | C3: Massage | D3: =SUM(Roster!G2:G31) -> 21 | E3: =SUMPRODUCT(Roster!$E$2:$E$31,Roster!G2:G31) -> 194
A4: Priya Natarajan | B4: Senior esthetician | C4: Facials | D4: =SUM(Roster!H2:H31) -> 22 | E4: =SUMPRODUCT(Roster!$E$2:$E$31,Roster!H2:H31) -> 216
A5: June Okonkwo | B5: Esthetician | C5: Facials, Body treatments | D5: =SUM(Roster!I2:I31) -> 21 | E5: =SUMPRODUCT(Roster!$E$2:$E$31,Roster!I2:I31) -> 194
A6: Sofia Lindqvist | B6: Body treatment specialist, LMT | C6: Body treatments, Massage | D6: =SUM(Roster!J2:J31) -> 22 | E6: =SUMPRODUCT(Roster!$E$2:$E$31,Roster!J2:J31) -> 204
A7: Ezra Whitlock | B7: Massage therapist, LMT | C7: Massage | D7: =SUM(Roster!K2:K31) -> 22 | E7: =SUMPRODUCT(Roster!$E$2:$E$31,Roster!K2:K31) -> 204

Sheet Rooms
A1: Room | B1: Used for | C1: Notes | D1: Days open | E1: Hours available
A2: Bracken | B2: Massage | C2: Massage suite, heated table | D2: =COUNTIF(Roster!$E$2:$E$31,">0") -> 26 | E2: =SUM(Roster!$E$2:$E$31) -> 244
A3: Maidenhair | B3: Massage | C3: Massage suite, garden window | D3: =COUNTIF(Roster!$E$2:$E$31,">0") -> 26 | E3: =SUM(Roster!$E$2:$E$31) -> 244
A4: Cedar | B4: Massage, Body treatments | C4: Massage and dry body treatments | D4: =COUNTIF(Roster!$E$2:$E$31,">0") -> 26 | E4: =SUM(Roster!$E$2:$E$31) -> 244
A5: Lantern | B5: Facials | C5: Facial room, magnifier lamp | D5: =COUNTIF(Roster!$E$2:$E$31,">0") -> 26 | E5: =SUM(Roster!$E$2:$E$31) -> 244
A6: Moss | B6: Facials, Body treatments | C6: Facial room, also used for back facials | D6: =COUNTIF(Roster!$E$2:$E$31,">0") -> 26 | E6: =SUM(Roster!$E$2:$E$31) -> 244
A7: Rain Room | B7: Body treatments | C7: Wet room with Vichy shower | D7: =COUNTIF(Roster!$E$2:$E$31,">0") -> 26 | E7: =SUM(Roster!$E$2:$E$31) -> 244

Sheet Package sales
A1: Date | B1: Client | C1: Package or membership | D1: Type | E1: Price
A2: 46266 | B2: Aisha Ziegler | C2: Fernlight Monthly | D2: Membership | E2: 105
A3: 46267 | B3: Mei Abernathy | C3: Fernlight Plus | D3: Membership | E3: 185
A4: 46267 | B4: Rachel Prescott | C4: Fernlight Monthly | D4: Membership | E4: 105
A5: 46267 | B5: Imani Hargrove | C5: Restore Three | D5: Package | E5: 345
A6: 46268 | B6: Luis Abernathy | C6: Fernlight Monthly | D6: Membership | E6: 105
A7: 46268 | B7: Kelsey Prescott | C7: Fernlight Monthly | D7: Membership | E7: 105
A8: 46268 | B8: Rachel Prescott | C8: Fern & Stone Afternoon | D8: Package | E8: 395
A9: 46268 | B9: Leila Ziegler | C9: Restore Three | D9: Package | E9: 345
A10: 46269 | B10: James Chen | C10: Facial Series of Four | D10: Package | E10: 440
A11: 46270 | B11: Rachel Moreno | C11: Restore Three | D11: Package | E11: 345
A12: 46270 | B12: Natalie Moreno | C12: Restore Three | D12: Package | E12: 345
A13: 46271 | B13: Rosa Moreno | C13: Fernlight Plus | D13: Membership | E13: 185
... A57: 46293 | B57: Ryan Ransom | C57: Fernlight Monthly | D57: Membership | E57: 105
